BEGIN:VCALENDAR
VERSION:2.0
PRODID:-//Jimmy Clanton Official Website - ECPv6.15.16.1//NONSGML v1.0//EN
CALSCALE:GREGORIAN
METHOD:PUBLISH
X-ORIGINAL-URL:https://www.jimmyclanton.com
X-WR-CALDESC:Events for Jimmy Clanton Official Website
REFRESH-INTERVAL;VALUE=DURATION:PT1H
X-Robots-Tag:noindex
X-PUBLISHED-TTL:PT1H
BEGIN:VTIMEZONE
TZID:America/New_York
BEGIN:DAYLIGHT
TZOFFSETFROM:-0500
TZOFFSETTO:-0400
TZNAME:EDT
DTSTART:20160313T070000
END:DAYLIGHT
BEGIN:STANDARD
TZOFFSETFROM:-0400
TZOFFSETTO:-0500
TZNAME:EST
DTSTART:20161106T060000
END:STANDARD
BEGIN:DAYLIGHT
TZOFFSETFROM:-0500
TZOFFSETTO:-0400
TZNAME:EDT
DTSTART:20170312T070000
END:DAYLIGHT
BEGIN:STANDARD
TZOFFSETFROM:-0400
TZOFFSETTO:-0500
TZNAME:EST
DTSTART:20171105T060000
END:STANDARD
BEGIN:DAYLIGHT
TZOFFSETFROM:-0500
TZOFFSETTO:-0400
TZNAME:EDT
DTSTART:20180311T070000
END:DAYLIGHT
BEGIN:STANDARD
TZOFFSETFROM:-0400
TZOFFSETTO:-0500
TZNAME:EST
DTSTART:20181104T060000
END:STANDARD
BEGIN:DAYLIGHT
TZOFFSETFROM:-0500
TZOFFSETTO:-0400
TZNAME:EDT
DTSTART:20190310T070000
END:DAYLIGHT
BEGIN:STANDARD
TZOFFSETFROM:-0400
TZOFFSETTO:-0500
TZNAME:EST
DTSTART:20191103T060000
END:STANDARD
BEGIN:DAYLIGHT
TZOFFSETFROM:-0500
TZOFFSETTO:-0400
TZNAME:EDT
DTSTART:20200308T070000
END:DAYLIGHT
BEGIN:STANDARD
TZOFFSETFROM:-0400
TZOFFSETTO:-0500
TZNAME:EST
DTSTART:20201101T060000
END:STANDARD
BEGIN:DAYLIGHT
TZOFFSETFROM:-0500
TZOFFSETTO:-0400
TZNAME:EDT
DTSTART:20210314T070000
END:DAYLIGHT
BEGIN:STANDARD
TZOFFSETFROM:-0400
TZOFFSETTO:-0500
TZNAME:EST
DTSTART:20211107T060000
END:STANDARD
BEGIN:DAYLIGHT
TZOFFSETFROM:-0500
TZOFFSETTO:-0400
TZNAME:EDT
DTSTART:20220313T070000
END:DAYLIGHT
BEGIN:STANDARD
TZOFFSETFROM:-0400
TZOFFSETTO:-0500
TZNAME:EST
DTSTART:20221106T060000
END:STANDARD
END:VTIMEZONE
BEGIN:VEVENT
DTSTART;VALUE=DATE:20210214
DTEND;VALUE=DATE:20210215
DTSTAMP:20260423T131358
CREATED:20210210T013243Z
LAST-MODIFIED:20210213T174838Z
UID:2198-1613260800-1613347199@www.jimmyclanton.com
SUMMARY:THE MAN\, THE MUSIC\, THE MINISTRY - "Food For The Soul"
DESCRIPTION:
URL:https://www.jimmyclanton.com/event/2198/
ATTACH;FMTTYPE=image/jpeg:https://www.jimmyclanton.com/wp-content/uploads/2021/02/FoodForThe-SoulAd.jpg
END:VEVENT
BEGIN:VEVENT
DTSTART;VALUE=DATE:20210103
DTEND;VALUE=DATE:20210104
DTSTAMP:20260423T131358
CREATED:20201122T042217Z
LAST-MODIFIED:20210213T175236Z
UID:2131-1609632000-1609718399@www.jimmyclanton.com
SUMMARY:THE MAN. THE MUSIC. THE MINISTRY  "Food For The Soul"
DESCRIPTION:
URL:https://www.jimmyclanton.com/event/the-man-the-music-the-ministry-food-for-the-soul-7/
ATTACH;FMTTYPE=image/jpeg:https://www.jimmyclanton.com/wp-content/uploads/2021/02/FoodForThe-SoulAd.jpg
END:VEVENT
BEGIN:VEVENT
DTSTART;VALUE=DATE:20201227
DTEND;VALUE=DATE:20201228
DTSTAMP:20260423T131358
CREATED:20201122T042136Z
LAST-MODIFIED:20201122T042354Z
UID:2129-1609027200-1609113599@www.jimmyclanton.com
SUMMARY:THE MAN. THE MUSIC. THE MINISTRY  "Food For The Soul"
DESCRIPTION:
URL:https://www.jimmyclanton.com/event/the-man-the-music-the-ministry-food-for-the-soul-6/
END:VEVENT
BEGIN:VEVENT
DTSTART;VALUE=DATE:20201220
DTEND;VALUE=DATE:20201221
DTSTAMP:20260423T131358
CREATED:20201122T042055Z
LAST-MODIFIED:20201122T042055Z
UID:2127-1608422400-1608508799@www.jimmyclanton.com
SUMMARY:THE MAN. THE MUSIC. THE MINISTRY  "Food For The Soul"
DESCRIPTION:
URL:https://www.jimmyclanton.com/event/the-man-the-music-the-ministry-food-for-the-soul-5/
END:VEVENT
BEGIN:VEVENT
DTSTART;VALUE=DATE:20201213
DTEND;VALUE=DATE:20201214
DTSTAMP:20260423T131358
CREATED:20201122T042003Z
LAST-MODIFIED:20201122T042003Z
UID:2125-1607817600-1607903999@www.jimmyclanton.com
SUMMARY:THE MAN. THE MUSIC. THE MINISTRY  "Food For The Soul"
DESCRIPTION:
URL:https://www.jimmyclanton.com/event/the-man-the-music-the-ministry-food-for-the-soul-4/
END:VEVENT
BEGIN:VEVENT
DTSTART;VALUE=DATE:20201206
DTEND;VALUE=DATE:20201207
DTSTAMP:20260423T131358
CREATED:20201122T041734Z
LAST-MODIFIED:20201122T041854Z
UID:2121-1607212800-1607299199@www.jimmyclanton.com
SUMMARY:THE MAN. THE MUSIC. THE MINISTRY  "Food For The Soul"
DESCRIPTION:
URL:https://www.jimmyclanton.com/event/the-man-the-music-the-ministry-food-for-the-soul-3/
END:VEVENT
BEGIN:VEVENT
DTSTART;VALUE=DATE:20201129
DTEND;VALUE=DATE:20201130
DTSTAMP:20260423T131358
CREATED:20201122T041632Z
LAST-MODIFIED:20201122T041632Z
UID:2119-1606608000-1606608000@www.jimmyclanton.com
SUMMARY:THE MAN. THE MUSIC. THE MINISTRY  "Food For The Soul"
DESCRIPTION:
URL:https://www.jimmyclanton.com/event/the-man-the-music-the-ministry-food-for-the-soul-2/
END:VEVENT
BEGIN:VEVENT
DTSTART;TZID=America/New_York:20200516T190000
DTEND;TZID=America/New_York:20200516T223000
DTSTAMP:20260423T131358
CREATED:20200131T024308Z
LAST-MODIFIED:20200131T024345Z
UID:2086-1589655600-1589668200@www.jimmyclanton.com
SUMMARY:Oh What a Night of Doo Wop Rock & Roll
DESCRIPTION:
URL:https://www.jimmyclanton.com/event/oh-what-a-night-of-doo-wop-rock-roll/
LOCATION:Bergen Performing Arts Center\, 30 N. Van Brunt Street\, Englewood\, New Jersey\, 07631
END:VEVENT
BEGIN:VEVENT
DTSTART;TZID=America/New_York:20200404T200000
DTEND;TZID=America/New_York:20200404T220000
DTSTAMP:20260423T131358
CREATED:20200124T024743Z
LAST-MODIFIED:20200124T025013Z
UID:2080-1586030400-1586037600@www.jimmyclanton.com
SUMMARY:Doo Wop Weekend - Half Hollow Hills East High school
DESCRIPTION:
URL:https://www.jimmyclanton.com/event/doo-wop-weekend-half-hollow-hills-east-high-school/
LOCATION:Half Hollow Hills East High School\, 50 Vanderbilt Pky.\, Dix Hills Long Island\, New York\, 11746\, United States
END:VEVENT
BEGIN:VEVENT
DTSTART;TZID=America/New_York:20200314T200000
DTEND;TZID=America/New_York:20200314T223000
DTSTAMP:20260423T131358
CREATED:20200124T021729Z
LAST-MODIFIED:20200227T202659Z
UID:2071-1584216000-1584225000@www.jimmyclanton.com
SUMMARY:The Best of Doo Wop VI
DESCRIPTION:
URL:https://www.jimmyclanton.com/event/the-best-of-doo-wop-vi/
LOCATION:Keswick Theatre\, 291 N. Keswick Ave.\, Glenside\, PA\, 19038\, United States
END:VEVENT
BEGIN:VEVENT
DTSTART;TZID=America/New_York:20200215T000000
DTEND;TZID=America/New_York:20200222T000000
DTSTAMP:20260423T131358
CREATED:20190517T015559Z
LAST-MODIFIED:20190517T015559Z
UID:2021-1581724800-1582329600@www.jimmyclanton.com
SUMMARY:2020 Doo Wop Music Cruise II
DESCRIPTION:
URL:https://www.jimmyclanton.com/event/2020-doo-wop-music-cruise-ii/
ATTACH;FMTTYPE=image/png:https://www.jimmyclanton.com/wp-content/uploads/2019/05/Doo-Wop-Cruise-2020-Public-eMaster.png
END:VEVENT
BEGIN:VEVENT
DTSTART;TZID=America/New_York:20191116T153000
DTEND;TZID=America/New_York:20191116T193000
DTSTAMP:20260423T131358
CREATED:20190818T034343Z
LAST-MODIFIED:20190818T035015Z
UID:2041-1573918200-1573932600@www.jimmyclanton.com
SUMMARY:Legends of the 60s  Vol.111  Live In Concert
DESCRIPTION:
URL:https://www.jimmyclanton.com/event/legends-of-the-60s-vol-111-live-in-concert/
LOCATION:Gardner W. Spring Auditorium\, 1245 N. Euclid Ave.\, Ontario\, California
ATTACH;FMTTYPE=image/jpeg:https://www.jimmyclanton.com/wp-content/uploads/2019/08/Legends-of-the-60s-NOv-16-2019-FB-full-text-with-discount.jpg
END:VEVENT
BEGIN:VEVENT
DTSTART;TZID=America/New_York:20191026T190000
DTEND;TZID=America/New_York:20191026T220000
DTSTAMP:20260423T131358
CREATED:20190514T015256Z
LAST-MODIFIED:20191017T020619Z
UID:2019-1572116400-1572127200@www.jimmyclanton.com
SUMMARY:Return of Kenny Vance and Friends
DESCRIPTION:
URL:https://www.jimmyclanton.com/event/return-of-kenny-vance-and-friends/
LOCATION:Heinz Hall\, 600 Penn Avenue\, Pittsburgh\, PA\, 15222\, United States
ATTACH;FMTTYPE=image/jpeg:https://www.jimmyclanton.com/wp-content/uploads/2019/05/Pittsburgh.jpg
END:VEVENT
BEGIN:VEVENT
DTSTART;TZID=America/New_York:20190808T080000
DTEND;TZID=America/New_York:20190808T170000
DTSTAMP:20260423T131358
CREATED:20190311T205249Z
LAST-MODIFIED:20190312T224745Z
UID:1960-1565251200-1565283600@www.jimmyclanton.com
SUMMARY:8/8/2019 - Summer Festival\, Senigallia\, Italy
DESCRIPTION:
URL:https://www.jimmyclanton.com/event/9-8-2016-summer-festival-senigallia-italy/
END:VEVENT
BEGIN:VEVENT
DTSTART;TZID=America/New_York:20190406T170000
DTEND;TZID=America/New_York:20190406T200000
DTSTAMP:20260423T131358
CREATED:20190311T204651Z
LAST-MODIFIED:20190311T204651Z
UID:1951-1554570000-1554580800@www.jimmyclanton.com
SUMMARY:April 6th\, 2019 - Doo Wop Weekend (Day 1)
DESCRIPTION:
URL:https://www.jimmyclanton.com/event/april-6th-2019-doo-wop-weekend-day-1/
LOCATION:Half Hollow Hills East High School\, 50 Vanderbilt Pky.\, Dix Hills Long Island\, New York\, 11746\, United States
END:VEVENT
BEGIN:VEVENT
DTSTART;TZID=America/New_York:20190209T190000
DTEND;TZID=America/New_York:20190209T230000
DTSTAMP:20260423T131358
CREATED:20180918T012053Z
LAST-MODIFIED:20180918T012717Z
UID:1900-1549738800-1549753200@www.jimmyclanton.com
SUMMARY:The Best of Doo-Wop Vol II
DESCRIPTION:
URL:https://www.jimmyclanton.com/event/the-best-of-doo-wop-vol-ii/
LOCATION:Parker Playhouse\, 707 NE 8th Street\, Ft. Lauderdale\, FL\, 33304\, United States
ATTACH;FMTTYPE=image/jpeg:https://www.jimmyclanton.com/wp-content/uploads/2018/09/ParkerPlayhouse.jpg
END:VEVENT
BEGIN:VEVENT
DTSTART;TZID=America/New_York:20190126T200000
DTEND;TZID=America/New_York:20190126T230000
DTSTAMP:20260423T131358
CREATED:20180917T190636Z
LAST-MODIFIED:20180918T004248Z
UID:1892-1548532800-1548543600@www.jimmyclanton.com
SUMMARY:"THE BEST OF DOO WOP VOL. IV"
DESCRIPTION:
URL:https://www.jimmyclanton.com/event/the-best-of-doo-wop-vol-iv/
LOCATION:Cerritos Center for the Performing Arts\, 12700 Center Court Drive\, Cerritos\, CA\, 90703\, United States
ATTACH;FMTTYPE=image/jpeg:https://www.jimmyclanton.com/wp-content/uploads/2018/09/Cerritis.jpg
END:VEVENT
BEGIN:VEVENT
DTSTART;TZID=America/New_York:20181110T153000
DTEND;TZID=America/New_York:20181110T173000
DTSTAMP:20260423T131358
CREATED:20180721T020206Z
LAST-MODIFIED:20180721T024349Z
UID:1784-1541863800-1541871000@www.jimmyclanton.com
SUMMARY:AMG (Artists Music Guild) Heritage Awards
DESCRIPTION:
URL:https://www.jimmyclanton.com/event/amg-heritage-awards/
LOCATION:The AG Convention Center\, Monroe\, NC\, United States
ATTACH;FMTTYPE=image/jpeg:https://www.jimmyclanton.com/wp-content/uploads/2018/07/37104435_1875925805807584_2203309147582103552_n1.jpg
END:VEVENT
BEGIN:VEVENT
DTSTART;TZID=America/New_York:20181020T190000
DTEND;TZID=America/New_York:20181020T230000
DTSTAMP:20260423T131358
CREATED:20180412T004451Z
LAST-MODIFIED:20180412T005423Z
UID:1712-1540062000-1540076400@www.jimmyclanton.com
SUMMARY:Golden Oldies Spectacular
DESCRIPTION:
URL:https://www.jimmyclanton.com/event/golden-oldies-spectacular/
LOCATION:Proctors\, 432 State Street\, Schenectady \, NY\, 12305\, United States
ATTACH;FMTTYPE=image/jpeg:https://www.jimmyclanton.com/wp-content/uploads/2018/04/30415521_1673258959418459_8118947692341624832_o.jpg
END:VEVENT
BEGIN:VEVENT
DTSTART;TZID=America/New_York:20180923T200000
DTEND;TZID=America/New_York:20180923T230000
DTSTAMP:20260423T131358
CREATED:20180713T020624Z
LAST-MODIFIED:20180713T021013Z
UID:1777-1537732800-1537743600@www.jimmyclanton.com
SUMMARY:Patio-Andaluz (2018 Reunion)
DESCRIPTION:
URL:https://www.jimmyclanton.com/event/patio-andaluz-2018-reunion/
LOCATION:Tobin Center\, 100 Auditorium Circle\, San Antonio\, TX\, 78205\, United States
ATTACH;FMTTYPE=image/jpeg:https://www.jimmyclanton.com/wp-content/uploads/2018/07/pizap.com153123291679911.jpg
END:VEVENT
BEGIN:VEVENT
DTSTART;TZID=America/New_York:20180818T190000
DTEND;TZID=America/New_York:20180818T220000
DTSTAMP:20260423T131358
CREATED:20180429T023316Z
LAST-MODIFIED:20180429T024027Z
UID:1745-1534618800-1534629600@www.jimmyclanton.com
SUMMARY:Legends of Doo Wop & Rock 'n' Roll\, Vol. II
DESCRIPTION:
URL:https://www.jimmyclanton.com/event/legends-of-doo-wop-rock-n-roll-vol-ii/
LOCATION:California Theater\, 562 W. 4th. Street\, San Bernardino\, CA\, United States
ATTACH;FMTTYPE=image/jpeg:https://www.jimmyclanton.com/wp-content/uploads/2018/04/Legends20of20doo20wop20and20rock20n20roll20Vol20II-20full20flyer-20discount-QR20code1-e1524969428439.jpg
END:VEVENT
BEGIN:VEVENT
DTSTART;TZID=America/New_York:20180519T180000
DTEND;TZID=America/New_York:20180519T220000
DTSTAMP:20260423T131358
CREATED:20180108T234508Z
LAST-MODIFIED:20180108T234508Z
UID:1685-1526752800-1526767200@www.jimmyclanton.com
SUMMARY:Spring Night of Doo-Wop\, Soul\, & Rock & Roll
DESCRIPTION:
URL:https://www.jimmyclanton.com/event/spring-night-of-doo-wop-soul-rock-roll/
LOCATION:Davenport Performing Arts Center Pottstown Senior High School\, 750 North Washington Street\, Pottstown\, PA\, 19464\, United States
ATTACH;FMTTYPE=image/jpeg:https://www.jimmyclanton.com/wp-content/uploads/2018/01/Pottstown.jpg
END:VEVENT
BEGIN:VEVENT
DTSTART;TZID=America/New_York:20180303T200000
DTEND;TZID=America/New_York:20180303T210000
DTSTAMP:20260423T131358
CREATED:20180216T033548Z
LAST-MODIFIED:20180216T033548Z
UID:1694-1520107200-1520110800@www.jimmyclanton.com
SUMMARY:PBS TV Special - "Doo Wop Generations"
DESCRIPTION:Check your local PBS station for times in your area to view and enjoy this once-in-a-lifetime PBS special. Many of our favorites of the 50’s and 60’s are featured – including our own Jimmy Clanton – performing with a new generation of talented entertainers.
URL:https://www.jimmyclanton.com/event/pbs-tv-special-doo-wop-generations/
END:VEVENT
BEGIN:VEVENT
DTSTART;TZID=America/New_York:20171104T190000
DTEND;TZID=America/New_York:20171104T220000
DTSTAMP:20260423T131358
CREATED:20170904T191352Z
LAST-MODIFIED:20171026T135204Z
UID:1637-1509822000-1509832800@www.jimmyclanton.com
SUMMARY:November 4\, 2017 - Emmitsburg\, MD
DESCRIPTION:
URL:https://www.jimmyclanton.com/event/november-4-2017-emmitsburg-md/
LOCATION:Emmitsburg Ambulance Social Hall\, 17701 Creamery Road\, Emmitsburg\, MD\, 21727\, United States
ATTACH;FMTTYPE=image/jpeg:https://www.jimmyclanton.com/wp-content/uploads/2017/09/21728413_1572017149525754_1148435413683258746_n1.jpg
END:VEVENT
BEGIN:VEVENT
DTSTART;TZID=America/New_York:20171022T190000
DTEND;TZID=America/New_York:20171022T223000
DTSTAMP:20260423T131358
CREATED:20170822T225833Z
LAST-MODIFIED:20190113T162350Z
UID:1619-1508698800-1508711400@www.jimmyclanton.com
SUMMARY:October 22\, 2017 - Morrisville\, PA
DESCRIPTION:
URL:https://www.jimmyclanton.com/event/october-22-2017-morrisville-pa/
LOCATION:Morrisville High School\, 550 West Palmer\, Morrisville\, PA\, 19069\, United States
END:VEVENT
BEGIN:VEVENT
DTSTART;TZID=America/New_York:20171021T210000
DTEND;TZID=America/New_York:20171021T220000
DTSTAMP:20260423T131358
CREATED:20170822T210005Z
LAST-MODIFIED:20190113T162325Z
UID:1612-1508619600-1508623200@www.jimmyclanton.com
SUMMARY:October 21\, 2017 - Danville\, PA  (Second Show)
DESCRIPTION:
URL:https://www.jimmyclanton.com/event/october-21-2017-danville-pa-second-show/
LOCATION:Danville Middle School Auditorium\, 120 Northumberland Rd. \, Danville\, PA\, 17821\, United States
END:VEVENT
BEGIN:VEVENT
DTSTART;TZID=America/New_York:20171021T180000
DTEND;TZID=America/New_York:20171021T190000
DTSTAMP:20260423T131358
CREATED:20170822T153829Z
LAST-MODIFIED:20190113T162302Z
UID:1598-1508608800-1508612400@www.jimmyclanton.com
SUMMARY:October 21\, 2017 - Danville\, PA (First Show)
DESCRIPTION:
URL:https://www.jimmyclanton.com/event/october-21-2017-danville-pa/
LOCATION:Danville Middle School Auditorium\, 120 Northumberland Rd. \, Danville\, PA\, 17821\, United States
END:VEVENT
BEGIN:VEVENT
DTSTART;TZID=America/New_York:20171020T193000
DTEND;TZID=America/New_York:20171020T223000
DTSTAMP:20260423T131358
CREATED:20170822T104332Z
LAST-MODIFIED:20190113T162025Z
UID:1586-1508527800-1508538600@www.jimmyclanton.com
SUMMARY:October 20\, 2017 - Hazleton\, PA
DESCRIPTION:
URL:https://www.jimmyclanton.com/event/jimmy-clanton-performing-his-hits/
LOCATION:Hazleton Senior High School\, 1601 West 23rd St.\, Hazleton \, PA\, 18202\, United States
END:VEVENT
BEGIN:VEVENT
DTSTART;TZID=America/New_York:20171019T193000
DTEND;TZID=America/New_York:20171019T223000
DTSTAMP:20260423T131358
CREATED:20170822T102705Z
LAST-MODIFIED:20190113T162405Z
UID:1572-1508441400-1508452200@www.jimmyclanton.com
SUMMARY:October 19\, 2017 - Cumberland\, MD
DESCRIPTION:
URL:https://www.jimmyclanton.com/event/jimmy-clanton-sings-his-hits/
LOCATION:Fort Hill High School\, 500 Greenway Ave.\, Cumberland\, MD\, 21502\, United States
END:VEVENT
BEGIN:VEVENT
DTSTART;TZID=America/New_York:20170520T193000
DTEND;TZID=America/New_York:20170520T223000
DTSTAMP:20260423T131358
CREATED:20170110T191600Z
LAST-MODIFIED:20170111T175541Z
UID:1465-1495308600-1495319400@www.jimmyclanton.com
SUMMARY:May 20\, 2017 - Baton Rouge\, LA
DESCRIPTION:PRESENTING JIMMY CLANTON IN CONCERT WITH BLUE EYED SOUL
URL:https://www.jimmyclanton.com/event/jimmy-clanton-in-concert-with-blue-eyed-soul/
LOCATION:Baton Rouge High School Auditorium\, 2825 Government St\, Baton Rouge\, LA\, 70810\, United States
END:VEVENT
END:VCALENDAR