BEGIN:VCALENDAR
VERSION:2.0
PRODID:-//Jimmy Clanton Official Website - ECPv6.15.16.1//NONSGML v1.0//EN
CALSCALE:GREGORIAN
METHOD:PUBLISH
X-WR-CALNAME:Jimmy Clanton Official Website
X-ORIGINAL-URL:https://www.jimmyclanton.com
X-WR-CALDESC:Events for Jimmy Clanton Official Website
REFRESH-INTERVAL;VALUE=DURATION:PT1H
X-Robots-Tag:noindex
X-PUBLISHED-TTL:PT1H
BEGIN:VTIMEZONE
TZID:America/New_York
BEGIN:DAYLIGHT
TZOFFSETFROM:-0500
TZOFFSETTO:-0400
TZNAME:EDT
DTSTART:20130310T070000
END:DAYLIGHT
BEGIN:STANDARD
TZOFFSETFROM:-0400
TZOFFSETTO:-0500
TZNAME:EST
DTSTART:20131103T060000
END:STANDARD
BEGIN:DAYLIGHT
TZOFFSETFROM:-0500
TZOFFSETTO:-0400
TZNAME:EDT
DTSTART:20140309T070000
END:DAYLIGHT
BEGIN:STANDARD
TZOFFSETFROM:-0400
TZOFFSETTO:-0500
TZNAME:EST
DTSTART:20141102T060000
END:STANDARD
BEGIN:DAYLIGHT
TZOFFSETFROM:-0500
TZOFFSETTO:-0400
TZNAME:EDT
DTSTART:20150308T070000
END:DAYLIGHT
BEGIN:STANDARD
TZOFFSETFROM:-0400
TZOFFSETTO:-0500
TZNAME:EST
DTSTART:20151101T060000
END:STANDARD
BEGIN:DAYLIGHT
TZOFFSETFROM:-0500
TZOFFSETTO:-0400
TZNAME:EDT
DTSTART:20160313T070000
END:DAYLIGHT
BEGIN:STANDARD
TZOFFSETFROM:-0400
TZOFFSETTO:-0500
TZNAME:EST
DTSTART:20161106T060000
END:STANDARD
END:VTIMEZONE
BEGIN:VEVENT
DTSTART;TZID=America/New_York:20151017T080000
DTEND;TZID=America/New_York:20151017T230000
DTSTAMP:20260423T190055
CREATED:20150505T153247Z
LAST-MODIFIED:20150901T030555Z
UID:1184-1445068800-1445122800@www.jimmyclanton.com
SUMMARY:Denver\, CO  -  10/17/2015
DESCRIPTION:
URL:https://www.jimmyclanton.com/event/denver-co-10172015/
LOCATION:Paramount Theater\, 1621 Glenarm Place\, Denver\, CO\, 80202\, United States
ATTACH;FMTTYPE=image/jpeg:https://www.jimmyclanton.com/wp-content/uploads/2015/05/denver151.jpg
END:VEVENT
BEGIN:VEVENT
DTSTART;TZID=America/New_York:20151003T193000
DTEND;TZID=America/New_York:20151003T233000
DTSTAMP:20260423T190055
CREATED:20150301T094813Z
LAST-MODIFIED:20150901T031130Z
UID:1125-1443900600-1443915000@www.jimmyclanton.com
SUMMARY:Glenside PA  -  10/03/2015
DESCRIPTION:
URL:https://www.jimmyclanton.com/event/oh-what-a-night-of-doo-wop-rock-n-roll/
LOCATION:Keswick Theatre\, 291 N. Keswick Ave.\, Glenside\, PA\, United States
ATTACH;FMTTYPE=image/jpeg:https://www.jimmyclanton.com/wp-content/uploads/2015/03/Keswick.jpg
END:VEVENT
BEGIN:VEVENT
DTSTART;TZID=America/New_York:20150718T200000
DTEND;TZID=America/New_York:20150718T230000
DTSTAMP:20260423T190055
CREATED:20150223T035008Z
LAST-MODIFIED:20150505T152731Z
UID:1119-1437249600-1437260400@www.jimmyclanton.com
SUMMARY:Upland\, CA  -  07/18/2015
DESCRIPTION:
URL:https://www.jimmyclanton.com/event/affordable-music-productions-presents/
LOCATION:Highlander Auditorium\, 850 N. San Antonio Avenue\, Upland\, CA\, 91786\, United States
ATTACH;FMTTYPE=image/jpeg:https://www.jimmyclanton.com/wp-content/uploads/2015/02/Upland-Calif-e1425672977969.jpg
END:VEVENT
BEGIN:VEVENT
DTSTART;TZID=America/New_York:20150425T190000
DTEND;TZID=America/New_York:20150425T230000
DTSTAMP:20260423T190055
CREATED:20141011T020811Z
LAST-MODIFIED:20150223T033817Z
UID:1018-1429988400-1430002800@www.jimmyclanton.com
SUMMARY:Oh What a Night of Doo Wop & Rock -N- Roll
DESCRIPTION:  \nFeaturing:  \nJack Scott\,  Jimmy Beaumont and the Skyliners\, Cleveland Still and the Dubs\, Harold Winley’s Clovers\, Jimmy Clanton\, and  Lenny Dell & The Demensions \nHosted by Cool Bobby B of Sirius Radio 50’s on 5
URL:https://www.jimmyclanton.com/event/easton-pa/
LOCATION:State Theatre Center for the Arts\, 453 Northampton Street\, Easton\, PA\, 18042\, United States
END:VEVENT
BEGIN:VEVENT
DTSTART;TZID=America/New_York:20150418T170000
DTEND;TZID=America/New_York:20150418T200000
DTSTAMP:20260423T190055
CREATED:20140619T140329Z
LAST-MODIFIED:20150306T202702Z
UID:866-1429376400-1429387200@www.jimmyclanton.com
SUMMARY:All-Star Doo-Wop Weekend Vol XII
DESCRIPTION:
URL:https://www.jimmyclanton.com/event/all-star-doo-wop-weekend-vol-xii/
LOCATION:Hauppauge High School\, 500 Lincoln Blvd\, Hauppage\, NY\, 11788\, United States
ATTACH;FMTTYPE=image/jpeg:https://www.jimmyclanton.com/wp-content/uploads/2015/02/Hauppauge-e1425673552888.jpg
END:VEVENT
BEGIN:VEVENT
DTSTART;TZID=America/New_York:20150328T193000
DTEND;TZID=America/New_York:20150328T233000
DTSTAMP:20260423T190055
CREATED:20141011T010503Z
LAST-MODIFIED:20150105T185631Z
UID:992-1427571000-1427585400@www.jimmyclanton.com
SUMMARY:Doo Wop Rock\, Rhythm & Soul
DESCRIPTION:
URL:https://www.jimmyclanton.com/event/doo-wop-rock-rhythm-soul/
LOCATION:Zeiterion Performing Arts Center\, 684 Purchase Street\, New Bedford\, MA\, 02740\, United States
ATTACH;FMTTYPE=image/jpeg:https://www.jimmyclanton.com/wp-content/uploads/2014/10/March-28-new-bedford.jpg
END:VEVENT
BEGIN:VEVENT
DTSTART;TZID=America/New_York:20150214T200000
DTEND;TZID=America/New_York:20150214T230000
DTSTAMP:20260423T190055
CREATED:20141011T014125Z
LAST-MODIFIED:20150105T185237Z
UID:1004-1423944000-1423954800@www.jimmyclanton.com
SUMMARY:Roses Are Red "The Ultimate Valentine's Day Concert"
DESCRIPTION:
URL:https://www.jimmyclanton.com/event/roses-are-red-the-ultimate-valentines-day-concert/
LOCATION:Sunrise Theatre For The Performing Arts\, 117 S. Second Street\, Ft. Pierce\, FL\, 34950\, United States
ATTACH;FMTTYPE=image/jpeg:https://www.jimmyclanton.com/wp-content/uploads/2014/10/Feb-14-Ft.-Pierce-Fl.jpg
END:VEVENT
BEGIN:VEVENT
DTSTART;TZID=America/New_York:20150124T080000
DTEND;TZID=America/New_York:20150124T230000
DTSTAMP:20260423T190055
CREATED:20141011T015850Z
LAST-MODIFIED:20150105T185720Z
UID:1014-1422086400-1422140400@www.jimmyclanton.com
SUMMARY:Jerry Blavat Early Days of Rock & Roll
DESCRIPTION:
URL:https://www.jimmyclanton.com/event/jerry-blavat-early-days-of-rock-roll/
LOCATION:Kimmel Center for the Performing Arts\, 300 S. Broad Street\, Philadelphia\, PA\, 19102\, United States
ATTACH;FMTTYPE=image/jpeg:https://www.jimmyclanton.com/wp-content/uploads/2014/10/Jan-24-Philadelphia.jpg
END:VEVENT
BEGIN:VEVENT
DTSTART;TZID=America/New_York:20150123T200000
DTEND;TZID=America/New_York:20150123T230000
DTSTAMP:20260423T190055
CREATED:20141011T014533Z
LAST-MODIFIED:20150105T185052Z
UID:1010-1422043200-1422054000@www.jimmyclanton.com
SUMMARY:WTVI Welcomes The Ultimate Doo Wop Show
DESCRIPTION:
URL:https://www.jimmyclanton.com/event/charlotte-nc/
LOCATION:Knight Theater at Levine Center For The Performing Arts\, 430 S. Tryon Street\, Charlotte\, NC\, 28202\, United States
ATTACH;FMTTYPE=image/jpeg:https://www.jimmyclanton.com/wp-content/uploads/2014/10/charlotte-Jan-23.jpg
END:VEVENT
BEGIN:VEVENT
DTSTART;TZID=America/New_York:20150110T200000
DTEND;TZID=America/New_York:20150110T230000
DTSTAMP:20260423T190055
CREATED:20141011T012210Z
LAST-MODIFIED:20150105T185348Z
UID:1001-1420920000-1420930800@www.jimmyclanton.com
SUMMARY:An Evening With The Stars Of Doo Wop
DESCRIPTION:
URL:https://www.jimmyclanton.com/event/an-evening-with-the-stars-of-doo-wop/
LOCATION:Parker Playhouse\, 707 NE 8th Street\, Ft. Lauderdale\, FL\, 33304\, United States
ATTACH;FMTTYPE=image/jpeg:https://www.jimmyclanton.com/wp-content/uploads/2014/10/Jan-10-Ft.-Lauderdale.jpg
END:VEVENT
BEGIN:VEVENT
DTSTART;TZID=America/New_York:20150102T200000
DTEND;TZID=America/New_York:20150102T230000
DTSTAMP:20260423T190055
CREATED:20141011T010907Z
LAST-MODIFIED:20141011T011830Z
UID:996-1420228800-1420239600@www.jimmyclanton.com
SUMMARY:The Ultimate Show
DESCRIPTION:
URL:https://www.jimmyclanton.com/event/the-ultimate-show/
LOCATION:To Be Announced\, Minneapolis\, MN\, United States
END:VEVENT
BEGIN:VEVENT
DTSTART;TZID=America/New_York:20141214T100000
DTEND;TZID=America/New_York:20141214T130000
DTSTAMP:20260423T190055
CREATED:20141011T000327Z
LAST-MODIFIED:20141012T135137Z
UID:987-1418551200-1418562000@www.jimmyclanton.com
SUMMARY:Jimmy Clanton - Special Guest of Keystone Record Collectors Monthly Expo
DESCRIPTION:
URL:https://www.jimmyclanton.com/event/keystone-record-collectors/
LOCATION:Continental Inn\, Route 30 East\, Lancaster\, PA\, 17602\, United States
END:VEVENT
BEGIN:VEVENT
DTSTART;TZID=America/New_York:20141121T200000
DTEND;TZID=America/New_York:20141121T230000
DTSTAMP:20260423T190055
CREATED:20141031T214239Z
LAST-MODIFIED:20141031T214356Z
UID:1040-1416600000-1416610800@www.jimmyclanton.com
SUMMARY:Private Party - 50th Anniversary
DESCRIPTION:
URL:https://www.jimmyclanton.com/event/private-party-50th-anniversary/
LOCATION:Unnamed Venue\, MD\, United States
END:VEVENT
BEGIN:VEVENT
DTSTART;TZID=America/New_York:20141024T200000
DTEND;TZID=America/New_York:20141024T230000
DTSTAMP:20260423T190055
CREATED:20140504T020240Z
LAST-MODIFIED:20140611T160017Z
UID:168-1414180800-1414191600@www.jimmyclanton.com
SUMMARY:The Ultimate Doo-Wop Show
DESCRIPTION:
URL:https://www.jimmyclanton.com/event/the-ultimate-doo-wop-show-2/
LOCATION:Van Wezel Performing Arts Hall\, 777 N. Tamiami Trail\, Sarasota\, FL\, 34236\, United States
ATTACH;FMTTYPE=image/jpeg:https://www.jimmyclanton.com/wp-content/uploads/2014/04/Sarasota-2014.jpg
END:VEVENT
BEGIN:VEVENT
DTSTART;TZID=America/New_York:20140927T200000
DTEND;TZID=America/New_York:20140927T220000
DTSTAMP:20260423T190055
CREATED:20140423T131801Z
LAST-MODIFIED:20140611T160036Z
UID:44-1411848000-1411855200@www.jimmyclanton.com
SUMMARY:Bloomsburg Fair 2014
DESCRIPTION:
URL:https://www.jimmyclanton.com/event/bloomsburg-fair-2014/
LOCATION:Bloomsburg Fairgrounds\, 620 West Third Street\, Bloomsburg\, PA\, 17815\, United States
ATTACH;FMTTYPE=image/jpeg:https://www.jimmyclanton.com/wp-content/uploads/2014/04/bloomsberg092714.jpg
END:VEVENT
BEGIN:VEVENT
DTSTART;TZID=America/New_York:20140802T200000
DTEND;TZID=America/New_York:20140802T220000
DTSTAMP:20260423T190055
CREATED:20140512T030205Z
LAST-MODIFIED:20140619T141259Z
UID:251-1407009600-1407016800@www.jimmyclanton.com
SUMMARY:A Night of Doo Wop and Rock & Roll Vol. 4
DESCRIPTION:
URL:https://www.jimmyclanton.com/event/a-night-of-doo-wop-and-rock-roll-vol-4/
LOCATION:Fox Theatre @Foxwoods Resort Casino\, 350 Trolley Line Blvd.\, Ledyard \, CT\, 06338\, United States
ATTACH;FMTTYPE=image/jpeg:https://www.jimmyclanton.com/wp-content/uploads/2014/05/doo_wop_hero1.jpg
END:VEVENT
BEGIN:VEVENT
DTSTART;TZID=America/New_York:20140718T160000
DTEND;TZID=America/New_York:20140718T170000
DTSTAMP:20260423T190055
CREATED:20140430T014406Z
LAST-MODIFIED:20140430T020852Z
UID:123-1405699200-1405702800@www.jimmyclanton.com
SUMMARY:Peter Lemongello\, Jr.'s  Swingin' Soiree  -  A Tribute To Jimmy Clanton
DESCRIPTION:Host of this internet radio show\, Peter Lemongello\, Jr.\, will present A Tribute To Jimmy Clanton on Friday\, July 18\, 2014 @ 4p.m. \nAlong with Jimmy as the special guest star\, Peter will be featuring songs such as “Just A Dream”\, “Venus In Blue Jeans”\, “Go Jimmy Go”\, and many more. This should be a fun\, interesting\, and exciting internet radio show that you will not want to miss. \nLog in to: https://www.spreaker.com/show/peter-lemongello-jr-s-swingin-soiree_1  
URL:https://www.jimmyclanton.com/event/peter-lemongello-jr-s-swingin-soiree-a-tribute-to-jimmy-clanton/
LOCATION:Peter Lemongello\, Jr.’s Swingin’ Soiree Internet Radio Show
ATTACH;FMTTYPE=image/jpeg:https://www.jimmyclanton.com/wp-content/uploads/2014/04/Show-for-Jimmy.jpg
END:VEVENT
BEGIN:VEVENT
DTSTART;TZID=America/New_York:20140531T200000
DTEND;TZID=America/New_York:20140531T220000
DTSTAMP:20260423T190055
CREATED:20140423T132008Z
LAST-MODIFIED:20140516T010639Z
UID:46-1401566400-1401573600@www.jimmyclanton.com
SUMMARY:Jimmy Clanton's Farewell Bayou Party
DESCRIPTION:The Cajun Country Event Center in Raceland\, LA provides the intimate setting for this spectacular\, once in a lifetime show\, Jimmy Clanton’s “Farewell Bayou Party.” \n.
URL:https://www.jimmyclanton.com/event/jimmy-clantons-farewell-to-the-bayou-party/
LOCATION:Cajun Event Center\, 2639 Highway 182\, Raceland\, LA\, 70394\, United States
ATTACH;FMTTYPE=image/jpeg:https://www.jimmyclanton.com/wp-content/uploads/2014/04/1619101_657904677609709_1247392316_n.jpg
END:VEVENT
BEGIN:VEVENT
DTSTART;TZID=America/New_York:20140412T080000
DTEND;TZID=America/New_York:20140423T170000
DTSTAMP:20260423T190055
CREATED:20140423T132453Z
LAST-MODIFIED:20140423T132453Z
UID:51-1397289600-1398272400@www.jimmyclanton.com
SUMMARY:Doo-Wop Weekend Vol. XI
DESCRIPTION:
URL:https://www.jimmyclanton.com/event/doo-wop-weekend-vol-xi/
LOCATION:Hauppauge High School\, 500 Lincoln Blvd\, Hauppage\, NY\, 11788\, United States
END:VEVENT
END:VCALENDAR