BEGIN:VCALENDAR
VERSION:2.0
PRODID:-//Jimmy Clanton Official Website - ECPv6.15.16.1//NONSGML v1.0//EN
CALSCALE:GREGORIAN
METHOD:PUBLISH
X-ORIGINAL-URL:https://www.jimmyclanton.com
X-WR-CALDESC:Events for Jimmy Clanton Official Website
REFRESH-INTERVAL;VALUE=DURATION:PT1H
X-Robots-Tag:noindex
X-PUBLISHED-TTL:PT1H
BEGIN:VTIMEZONE
TZID:America/New_York
BEGIN:DAYLIGHT
TZOFFSETFROM:-0500
TZOFFSETTO:-0400
TZNAME:EDT
DTSTART:20130310T070000
END:DAYLIGHT
BEGIN:STANDARD
TZOFFSETFROM:-0400
TZOFFSETTO:-0500
TZNAME:EST
DTSTART:20131103T060000
END:STANDARD
BEGIN:DAYLIGHT
TZOFFSETFROM:-0500
TZOFFSETTO:-0400
TZNAME:EDT
DTSTART:20140309T070000
END:DAYLIGHT
BEGIN:STANDARD
TZOFFSETFROM:-0400
TZOFFSETTO:-0500
TZNAME:EST
DTSTART:20141102T060000
END:STANDARD
BEGIN:DAYLIGHT
TZOFFSETFROM:-0500
TZOFFSETTO:-0400
TZNAME:EDT
DTSTART:20150308T070000
END:DAYLIGHT
BEGIN:STANDARD
TZOFFSETFROM:-0400
TZOFFSETTO:-0500
TZNAME:EST
DTSTART:20151101T060000
END:STANDARD
BEGIN:DAYLIGHT
TZOFFSETFROM:-0500
TZOFFSETTO:-0400
TZNAME:EDT
DTSTART:20160313T070000
END:DAYLIGHT
BEGIN:STANDARD
TZOFFSETFROM:-0400
TZOFFSETTO:-0500
TZNAME:EST
DTSTART:20161106T060000
END:STANDARD
END:VTIMEZONE
BEGIN:VEVENT
DTSTART;TZID=America/New_York:20150102T200000
DTEND;TZID=America/New_York:20150102T230000
DTSTAMP:20260423T203214
CREATED:20141011T010907Z
LAST-MODIFIED:20141011T011830Z
UID:996-1420228800-1420239600@www.jimmyclanton.com
SUMMARY:The Ultimate Show
DESCRIPTION:
URL:https://www.jimmyclanton.com/event/the-ultimate-show/
LOCATION:To Be Announced\, Minneapolis\, MN\, United States
END:VEVENT
BEGIN:VEVENT
DTSTART;TZID=America/New_York:20141214T100000
DTEND;TZID=America/New_York:20141214T130000
DTSTAMP:20260423T203214
CREATED:20141011T000327Z
LAST-MODIFIED:20141012T135137Z
UID:987-1418551200-1418562000@www.jimmyclanton.com
SUMMARY:Jimmy Clanton - Special Guest of Keystone Record Collectors Monthly Expo
DESCRIPTION:
URL:https://www.jimmyclanton.com/event/keystone-record-collectors/
LOCATION:Continental Inn\, Route 30 East\, Lancaster\, PA\, 17602\, United States
END:VEVENT
BEGIN:VEVENT
DTSTART;TZID=America/New_York:20141121T200000
DTEND;TZID=America/New_York:20141121T230000
DTSTAMP:20260423T203214
CREATED:20141031T214239Z
LAST-MODIFIED:20141031T214356Z
UID:1040-1416600000-1416610800@www.jimmyclanton.com
SUMMARY:Private Party - 50th Anniversary
DESCRIPTION:
URL:https://www.jimmyclanton.com/event/private-party-50th-anniversary/
LOCATION:Unnamed Venue\, MD\, United States
END:VEVENT
BEGIN:VEVENT
DTSTART;TZID=America/New_York:20141024T200000
DTEND;TZID=America/New_York:20141024T230000
DTSTAMP:20260423T203214
CREATED:20140504T020240Z
LAST-MODIFIED:20140611T160017Z
UID:168-1414180800-1414191600@www.jimmyclanton.com
SUMMARY:The Ultimate Doo-Wop Show
DESCRIPTION:
URL:https://www.jimmyclanton.com/event/the-ultimate-doo-wop-show-2/
LOCATION:Van Wezel Performing Arts Hall\, 777 N. Tamiami Trail\, Sarasota\, FL\, 34236\, United States
ATTACH;FMTTYPE=image/jpeg:https://www.jimmyclanton.com/wp-content/uploads/2014/04/Sarasota-2014.jpg
END:VEVENT
BEGIN:VEVENT
DTSTART;TZID=America/New_York:20140927T200000
DTEND;TZID=America/New_York:20140927T220000
DTSTAMP:20260423T203214
CREATED:20140423T131801Z
LAST-MODIFIED:20140611T160036Z
UID:44-1411848000-1411855200@www.jimmyclanton.com
SUMMARY:Bloomsburg Fair 2014
DESCRIPTION:
URL:https://www.jimmyclanton.com/event/bloomsburg-fair-2014/
LOCATION:Bloomsburg Fairgrounds\, 620 West Third Street\, Bloomsburg\, PA\, 17815\, United States
ATTACH;FMTTYPE=image/jpeg:https://www.jimmyclanton.com/wp-content/uploads/2014/04/bloomsberg092714.jpg
END:VEVENT
BEGIN:VEVENT
DTSTART;TZID=America/New_York:20140802T200000
DTEND;TZID=America/New_York:20140802T220000
DTSTAMP:20260423T203214
CREATED:20140512T030205Z
LAST-MODIFIED:20140619T141259Z
UID:251-1407009600-1407016800@www.jimmyclanton.com
SUMMARY:A Night of Doo Wop and Rock & Roll Vol. 4
DESCRIPTION:
URL:https://www.jimmyclanton.com/event/a-night-of-doo-wop-and-rock-roll-vol-4/
LOCATION:Fox Theatre @Foxwoods Resort Casino\, 350 Trolley Line Blvd.\, Ledyard \, CT\, 06338\, United States
ATTACH;FMTTYPE=image/jpeg:https://www.jimmyclanton.com/wp-content/uploads/2014/05/doo_wop_hero1.jpg
END:VEVENT
BEGIN:VEVENT
DTSTART;TZID=America/New_York:20140718T160000
DTEND;TZID=America/New_York:20140718T170000
DTSTAMP:20260423T203214
CREATED:20140430T014406Z
LAST-MODIFIED:20140430T020852Z
UID:123-1405699200-1405702800@www.jimmyclanton.com
SUMMARY:Peter Lemongello\, Jr.'s  Swingin' Soiree  -  A Tribute To Jimmy Clanton
DESCRIPTION:Host of this internet radio show\, Peter Lemongello\, Jr.\, will present A Tribute To Jimmy Clanton on Friday\, July 18\, 2014 @ 4p.m. \nAlong with Jimmy as the special guest star\, Peter will be featuring songs such as “Just A Dream”\, “Venus In Blue Jeans”\, “Go Jimmy Go”\, and many more. This should be a fun\, interesting\, and exciting internet radio show that you will not want to miss. \nLog in to: https://www.spreaker.com/show/peter-lemongello-jr-s-swingin-soiree_1  
URL:https://www.jimmyclanton.com/event/peter-lemongello-jr-s-swingin-soiree-a-tribute-to-jimmy-clanton/
LOCATION:Peter Lemongello\, Jr.’s Swingin’ Soiree Internet Radio Show
ATTACH;FMTTYPE=image/jpeg:https://www.jimmyclanton.com/wp-content/uploads/2014/04/Show-for-Jimmy.jpg
END:VEVENT
BEGIN:VEVENT
DTSTART;TZID=America/New_York:20140531T200000
DTEND;TZID=America/New_York:20140531T220000
DTSTAMP:20260423T203214
CREATED:20140423T132008Z
LAST-MODIFIED:20140516T010639Z
UID:46-1401566400-1401573600@www.jimmyclanton.com
SUMMARY:Jimmy Clanton's Farewell Bayou Party
DESCRIPTION:The Cajun Country Event Center in Raceland\, LA provides the intimate setting for this spectacular\, once in a lifetime show\, Jimmy Clanton’s “Farewell Bayou Party.” \n.
URL:https://www.jimmyclanton.com/event/jimmy-clantons-farewell-to-the-bayou-party/
LOCATION:Cajun Event Center\, 2639 Highway 182\, Raceland\, LA\, 70394\, United States
ATTACH;FMTTYPE=image/jpeg:https://www.jimmyclanton.com/wp-content/uploads/2014/04/1619101_657904677609709_1247392316_n.jpg
END:VEVENT
BEGIN:VEVENT
DTSTART;TZID=America/New_York:20140412T080000
DTEND;TZID=America/New_York:20140423T170000
DTSTAMP:20260423T203214
CREATED:20140423T132453Z
LAST-MODIFIED:20140423T132453Z
UID:51-1397289600-1398272400@www.jimmyclanton.com
SUMMARY:Doo-Wop Weekend Vol. XI
DESCRIPTION:
URL:https://www.jimmyclanton.com/event/doo-wop-weekend-vol-xi/
LOCATION:Hauppauge High School\, 500 Lincoln Blvd\, Hauppage\, NY\, 11788\, United States
END:VEVENT
END:VCALENDAR